BEGIN:VCALENDAR
VERSION:2.0
PRODID:-//Squarespace Inc/Squarespace 6//v6//EN
BEGIN:VEVENT
UID:5a641f5dc830251a70bb29bc@squarespace.com
DTSTAMP:20180121T050436Z
DTSTART:20180131T060000Z
DTEND:20180131T095959Z
SUMMARY:Pot & Parma Night
END:VEVENT
END:VCALENDAR
