BEGIN:VCALENDAR
VERSION:2.0
PRODID:-//Squarespace Inc/Squarespace 6//v6//EN
BEGIN:VEVENT
UID:5a641f6c0d9297150783f640@squarespace.com
DTSTAMP:20180121T050517Z
DTSTART:20180214T060000Z
DTEND:20180214T095959Z
SUMMARY:Pot & Parma Night
END:VEVENT
END:VCALENDAR
