BEGIN:VCALENDAR
VERSION:2.0
PRODID:-//Squarespace Inc/Squarespace 6//v6//EN
BEGIN:VEVENT
UID:5a641f7d652dea21c654f7cd@squarespace.com
DTSTAMP:20180121T050508Z
DTSTART:20180207T060000Z
DTEND:20180207T095959Z
SUMMARY:Pot & Parma Night
END:VEVENT
END:VCALENDAR
