BEGIN:VCALENDAR
VERSION:2.0
PRODID:-//Squarespace Inc/Squarespace 6//v6//EN
BEGIN:VEVENT
UID:5a641fad24a69436ca1855b2@squarespace.com
DTSTAMP:20180121T050556Z
DTSTART:20180228T060000Z
DTEND:20180228T095959Z
SUMMARY:Pot & Parma Night
END:VEVENT
END:VCALENDAR
