BEGIN:VCALENDAR
VERSION:2.0
PRODID:-//Squarespace Inc/Squarespace 6//v6//EN
BEGIN:VEVENT
UID:5a641fbc9140b7fa0a9ffedc@squarespace.com
DTSTAMP:20180121T050616Z
DTSTART:20180307T060000Z
DTEND:20180307T095959Z
SUMMARY:Pot & Parma Night
END:VEVENT
END:VCALENDAR
