BEGIN:VCALENDAR
VERSION:2.0
PRODID:-//Squarespace Inc/Squarespace 6//v6//EN
BEGIN:VEVENT
UID:5a641fd453450ae813e69201@squarespace.com
DTSTAMP:20180121T050635Z
DTSTART:20180314T060000Z
DTEND:20180314T095959Z
SUMMARY:Pot & Parma Night
END:VEVENT
END:VCALENDAR
