BEGIN:VCALENDAR
VERSION:2.0
PRODID:-//Squarespace Inc/Squarespace 6//v6//EN
BEGIN:VEVENT
UID:5a641fe5ec212dd048b388b0@squarespace.com
DTSTAMP:20180613T123656Z
DTSTART:20180620T070000Z
DTEND:20180620T105959Z
SUMMARY:Pot & Parma Night
END:VEVENT
END:VCALENDAR
