BEGIN:VCALENDAR
VERSION:2.0
PRODID:-//Squarespace Inc/Squarespace 6//v6//EN
BEGIN:VEVENT
UID:5b210f31f950b7528108dd21@squarespace.com
DTSTAMP:20180613T123428Z
DTSTART:20180613T070000Z
DTEND:20180613T105959Z
SUMMARY:Pot & Parma Night
END:VEVENT
END:VCALENDAR
