BEGIN:VCALENDAR
VERSION:2.0
PRODID:-//Squarespace Inc/Squarespace 6//v6//EN
BEGIN:VEVENT
UID:59af4068893fc0f1e6fdb67d@squarespace.com
DTSTAMP:20170906T002518Z
DTSTART:20170919T070000Z
DTEND:20170919T105959Z
SUMMARY:Tuesday Burger Night
END:VEVENT
END:VCALENDAR
