BEGIN:VCALENDAR
VERSION:2.0
PRODID:-//Squarespace Inc/Squarespace 6//v6//EN
BEGIN:VEVENT
UID:59af407bf5e231fa3dc357a0@squarespace.com
DTSTAMP:20170906T002540Z
DTSTART:20170926T070000Z
DTEND:20170926T105959Z
SUMMARY:Tuesday Burger Night
END:VEVENT
END:VCALENDAR
