BEGIN:VCALENDAR
VERSION:2.0
PRODID:-//Squarespace Inc/Squarespace 6//v6//EN
BEGIN:VEVENT
UID:59af4090f7e0ab91b2299ef3@squarespace.com
DTSTAMP:20170906T002601Z
DTSTART:20171003T060000Z
DTEND:20171003T095959Z
SUMMARY:Tuesday Burger Night
END:VEVENT
END:VCALENDAR
