BEGIN:VCALENDAR
VERSION:2.0
PRODID:-//Squarespace Inc/Squarespace 6//v6//EN
BEGIN:VEVENT
UID:59d6f79812abd9e60b50eb12@squarespace.com
DTSTAMP:20171006T032640Z
DTSTART:20171017T060000Z
DTEND:20171017T095959Z
SUMMARY:Tuesday Burger Night
END:VEVENT
END:VCALENDAR
