BEGIN:VCALENDAR
VERSION:2.0
PRODID:-//Squarespace Inc/Squarespace 6//v6//EN
BEGIN:VEVENT
UID:59d6f807c027d86c3dd34dfe@squarespace.com
DTSTAMP:20171006T032711Z
DTSTART:20171010T060000Z
DTEND:20171010T095959Z
SUMMARY:Tuesday Burger Night
END:VEVENT
END:VCALENDAR
