BEGIN:VCALENDAR
VERSION:2.0
PRODID:-//Squarespace Inc/Squarespace 6//v6//EN
BEGIN:VEVENT
UID:59d6f818e3df282e4e6d965a@squarespace.com
DTSTAMP:20171006T032727Z
DTSTART:20171024T060000Z
DTEND:20171024T095959Z
SUMMARY:Tuesday Burger Night
END:VEVENT
END:VCALENDAR
