BEGIN:VCALENDAR
VERSION:2.0
PRODID:-//Squarespace Inc/Squarespace 6//v6//EN
BEGIN:VEVENT
UID:59f69de00d9297f9ed747dc5@squarespace.com
DTSTAMP:20171030T033503Z
DTSTART:20171114T060000Z
DTEND:20171114T095959Z
SUMMARY:Tuesday Burger Night
END:VEVENT
END:VCALENDAR
