BEGIN:VCALENDAR
VERSION:2.0
PRODID:-//Squarespace Inc/Squarespace 6//v6//EN
BEGIN:VEVENT
UID:59f69efc53450a1e3bcd8b6f@squarespace.com
DTSTAMP:20171030T033948Z
DTSTART:20171121T060000Z
DTEND:20171121T095959Z
SUMMARY:Tuesday Burger Night
END:VEVENT
END:VCALENDAR
