BEGIN:VCALENDAR
VERSION:2.0
PRODID:-//Squarespace Inc/Squarespace 6//v6//EN
BEGIN:VEVENT
UID:59f69f618165f5c07f523ab8@squarespace.com
DTSTAMP:20171030T034129Z
DTSTART:20171128T060000Z
DTEND:20171128T095959Z
SUMMARY:Tuesday Burger Night
END:VEVENT
END:VCALENDAR
