BEGIN:VCALENDAR
VERSION:2.0
PRODID:-//Squarespace Inc/Squarespace 6//v6//EN
BEGIN:VEVENT
UID:5a642009419202749bb2c332@squarespace.com
DTSTAMP:20180121T050737Z
DTSTART:20180123T060000Z
DTEND:20180123T095959Z
SUMMARY:Tuesday Burger Night
END:VEVENT
END:VCALENDAR
