BEGIN:VCALENDAR
VERSION:2.0
PRODID:-//Squarespace Inc/Squarespace 6//v6//EN
BEGIN:VEVENT
UID:5a64202153450ae813e69bda@squarespace.com
DTSTAMP:20180121T050751Z
DTSTART:20180130T060000Z
DTEND:20180130T095959Z
SUMMARY:Tuesday Burger Night
END:VEVENT
END:VCALENDAR
