BEGIN:VCALENDAR
VERSION:2.0
PRODID:-//Squarespace Inc/Squarespace 6//v6//EN
BEGIN:VEVENT
UID:5a64202f8165f52495e9643c@squarespace.com
DTSTAMP:20180121T050808Z
DTSTART:20180206T060000Z
DTEND:20180206T095959Z
SUMMARY:Tuesday Burger Night
END:VEVENT
END:VCALENDAR
