BEGIN:VCALENDAR
VERSION:2.0
PRODID:-//Squarespace Inc/Squarespace 6//v6//EN
BEGIN:VEVENT
UID:5a642042419202749bb2ca82@squarespace.com
DTSTAMP:20180121T050824Z
DTSTART:20180213T060000Z
DTEND:20180213T095959Z
SUMMARY:Tuesday Burger Night
END:VEVENT
END:VCALENDAR
