BEGIN:VCALENDAR
VERSION:2.0
PRODID:-//Squarespace Inc/Squarespace 6//v6//EN
BEGIN:VEVENT
UID:5a64204f0d929715078414d9@squarespace.com
DTSTAMP:20180121T050838Z
DTSTART:20180220T060000Z
DTEND:20180220T095959Z
SUMMARY:Tuesday Burger Night
END:VEVENT
END:VCALENDAR
