BEGIN:VCALENDAR
VERSION:2.0
PRODID:-//Squarespace Inc/Squarespace 6//v6//EN
BEGIN:VEVENT
UID:5a64206f0d92971507841910@squarespace.com
DTSTAMP:20180121T050912Z
DTSTART:20180306T060000Z
DTEND:20180306T095959Z
SUMMARY:Tuesday Burger Night
END:VEVENT
END:VCALENDAR
