BEGIN:VCALENDAR
VERSION:2.0
PRODID:-//Squarespace Inc/Squarespace 6//v6//EN
BEGIN:VEVENT
UID:5a64209ae4966be29453ad56@squarespace.com
DTSTAMP:20180121T050954Z
DTSTART:20180320T060000Z
DTEND:20180320T095959Z
SUMMARY:Tuesday Burger Night
END:VEVENT
END:VCALENDAR
