BEGIN:VCALENDAR
VERSION:2.0
PRODID:-//Squarespace Inc/Squarespace 6//v6//EN
BEGIN:VEVENT
UID:5a6420ad24a69436ca187903@squarespace.com
DTSTAMP:20180121T051011Z
DTSTART:20180327T060000Z
DTEND:20180327T095959Z
SUMMARY:Tuesday Burger Night
END:VEVENT
END:VCALENDAR
