BEGIN:VCALENDAR
VERSION:2.0
PRODID:-//Squarespace Inc/Squarespace 6//v6//EN
BEGIN:VEVENT
UID:5b210f6388251bf27199b99d@squarespace.com
DTSTAMP:20180613T123459Z
DTSTART:20180619T070000Z
DTEND:20180619T105959Z
SUMMARY:Tuesday Burger Night
END:VEVENT
END:VCALENDAR
