BEGIN:VCALENDAR
VERSION:2.0
PRODID:-//Squarespace Inc/Squarespace 6//v6//EN
BEGIN:VEVENT
UID:5b2112c503ce64a2ff19a1e1@squarespace.com
DTSTAMP:20180613T124918Z
DTSTART:20180626T070000Z
DTEND:20180626T105959Z
SUMMARY:Tuesday Burger Night
END:VEVENT
END:VCALENDAR
