BEGIN:VCALENDAR
VERSION:2.0
PRODID:-//Squarespace Inc/Squarespace 6//v6//EN
BEGIN:VEVENT
UID:5b211344352f5349c7994a98@squarespace.com
DTSTAMP:20180613T125127Z
DTSTART:20180703T070000Z
DTEND:20180703T105959Z
SUMMARY:Tuesday Burger Night
END:VEVENT
END:VCALENDAR
