BEGIN:VCALENDAR
VERSION:2.0
PRODID:-//Squarespace Inc/Squarespace 6//v6//EN
BEGIN:VEVENT
UID:59af40c3197aea0fbfcf0f87@squarespace.com
DTSTAMP:20170906T002651Z
DTSTART:20170918T070000Z
DTEND:20170918T105958Z
SUMMARY:Monday Meatball Madness
END:VEVENT
END:VCALENDAR
