BEGIN:VCALENDAR
VERSION:2.0
PRODID:-//Squarespace Inc/Squarespace 6//v6//EN
BEGIN:VEVENT
UID:59af40d6be42d610797b1040@squarespace.com
DTSTAMP:20170906T002710Z
DTSTART:20170925T070000Z
DTEND:20170925T105958Z
SUMMARY:Monday Meatball Madness
END:VEVENT
END:VCALENDAR
