BEGIN:VCALENDAR
VERSION:2.0
PRODID:-//Squarespace Inc/Squarespace 6//v6//EN
BEGIN:VEVENT
UID:59af40ecd7bdce7aa5c243f1@squarespace.com
DTSTAMP:20170906T002733Z
DTSTART:20171002T060000Z
DTEND:20171002T095958Z
SUMMARY:Monday Meatball Madness
END:VEVENT
END:VCALENDAR
