BEGIN:VCALENDAR
VERSION:2.0
PRODID:-//Squarespace Inc/Squarespace 6//v6//EN
BEGIN:VEVENT
UID:59d6f855bce176944e2f41fd@squarespace.com
DTSTAMP:20171006T032829Z
DTSTART:20171009T060000Z
DTEND:20171009T095958Z
SUMMARY:Monday Meatball Madness
END:VEVENT
END:VCALENDAR
