BEGIN:VCALENDAR
VERSION:2.0
PRODID:-//Squarespace Inc/Squarespace 6//v6//EN
BEGIN:VEVENT
UID:59d6f86659cc68b8ac9ac0ee@squarespace.com
DTSTAMP:20171006T032850Z
DTSTART:20171016T060000Z
DTEND:20171016T095958Z
SUMMARY:Monday Meatball Madness
END:VEVENT
END:VCALENDAR
