BEGIN:VCALENDAR
VERSION:2.0
PRODID:-//Squarespace Inc/Squarespace 6//v6//EN
BEGIN:VEVENT
UID:59f69d5024a694055a756581@squarespace.com
DTSTAMP:20171030T033248Z
DTSTART:20171106T060000Z
DTEND:20171106T095958Z
SUMMARY:Monday Meatball Madness
END:VEVENT
END:VCALENDAR
