BEGIN:VCALENDAR
VERSION:2.0
PRODID:-//Squarespace Inc/Squarespace 6//v6//EN
BEGIN:VEVENT
UID:59f69dccd6839afae923f592@squarespace.com
DTSTAMP:20171030T033444Z
DTSTART:20171113T060000Z
DTEND:20171113T095958Z
SUMMARY:Monday Meatball Madness
END:VEVENT
END:VCALENDAR
