BEGIN:VCALENDAR
VERSION:2.0
PRODID:-//Squarespace Inc/Squarespace 6//v6//EN
BEGIN:VEVENT
UID:59f69eefec212d295bd47c16@squarespace.com
DTSTAMP:20171030T033935Z
DTSTART:20171120T060000Z
DTEND:20171120T095958Z
SUMMARY:Monday Meatball Madness
END:VEVENT
END:VCALENDAR
