BEGIN:VCALENDAR
VERSION:2.0
PRODID:-//Squarespace Inc/Squarespace 6//v6//EN
BEGIN:VEVENT
UID:59f69f46f9619ab1fcc646c9@squarespace.com
DTSTAMP:20171030T034103Z
DTSTART:20171127T060000Z
DTEND:20171127T095958Z
SUMMARY:Monday Meatball Madness
END:VEVENT
END:VCALENDAR
