BEGIN:VCALENDAR
VERSION:2.0
PRODID:-//Squarespace Inc/Squarespace 6//v6//EN
BEGIN:VEVENT
UID:5a6420e2c830251a70bb5eb1@squarespace.com
DTSTAMP:20180121T051105Z
DTSTART:20180129T060000Z
DTEND:20180129T095958Z
SUMMARY:Monday Meatball Madness
END:VEVENT
END:VCALENDAR
