BEGIN:VCALENDAR
VERSION:2.0
PRODID:-//Squarespace Inc/Squarespace 6//v6//EN
BEGIN:VEVENT
UID:5a6420f1652dea21c6552a50@squarespace.com
DTSTAMP:20180121T051121Z
DTSTART:20180205T060000Z
DTEND:20180205T095958Z
SUMMARY:Monday Meatball Madness
END:VEVENT
END:VCALENDAR
