BEGIN:VCALENDAR
VERSION:2.0
PRODID:-//Squarespace Inc/Squarespace 6//v6//EN
BEGIN:VEVENT
UID:5a642112ec212dd048b3b244@squarespace.com
DTSTAMP:20180121T051153Z
DTSTART:20180219T060000Z
DTEND:20180219T095958Z
SUMMARY:Monday Meatball Madness
END:VEVENT
END:VCALENDAR
