BEGIN:VCALENDAR
VERSION:2.0
PRODID:-//Squarespace Inc/Squarespace 6//v6//EN
BEGIN:VEVENT
UID:5a642125ec212dd048b3b49e@squarespace.com
DTSTAMP:20180121T051212Z
DTSTART:20180226T060000Z
DTEND:20180226T095958Z
SUMMARY:Monday Meatball Madness
END:VEVENT
END:VCALENDAR
