BEGIN:VCALENDAR
VERSION:2.0
PRODID:-//Squarespace Inc/Squarespace 6//v6//EN
BEGIN:VEVENT
UID:5a64213bf9619ad9da87cacb@squarespace.com
DTSTAMP:20180121T051235Z
DTSTART:20180305T060000Z
DTEND:20180305T095958Z
SUMMARY:Monday Meatball Madness
END:VEVENT
END:VCALENDAR
