BEGIN:VCALENDAR
VERSION:2.0
PRODID:-//Squarespace Inc/Squarespace 6//v6//EN
BEGIN:VEVENT
UID:5a64214fe2c483fd643f15e0@squarespace.com
DTSTAMP:20180121T051309Z
DTSTART:20180319T060000Z
DTEND:20180319T095958Z
SUMMARY:Monday Meatball Madness
END:VEVENT
END:VCALENDAR
