BEGIN:VCALENDAR
VERSION:2.0
PRODID:-//Squarespace Inc/Squarespace 6//v6//EN
BEGIN:VEVENT
UID:5a6421708165f52495e99252@squarespace.com
DTSTAMP:20180121T051329Z
DTSTART:20180326T060000Z
DTEND:20180326T095958Z
SUMMARY:Monday Meatball Madness
END:VEVENT
END:VCALENDAR
