BEGIN:VCALENDAR
VERSION:2.0
PRODID:-//Squarespace Inc/Squarespace 6//v6//EN
BEGIN:VEVENT
UID:5b210f7f758d46d9155ff805@squarespace.com
DTSTAMP:20180613T123525Z
DTSTART:20180618T070000Z
DTEND:20180618T105958Z
SUMMARY:Monday Meatball Madness
END:VEVENT
END:VCALENDAR
