BEGIN:VCALENDAR
VERSION:2.0
PRODID:-//Squarespace Inc/Squarespace 6//v6//EN
BEGIN:VEVENT
UID:5b2112b070a6adcf82caeca9@squarespace.com
DTSTAMP:20180613T124858Z
DTSTART:20180625T070000Z
DTEND:20180625T105958Z
SUMMARY:Monday Meatball Madness
END:VEVENT
END:VCALENDAR
