BEGIN:VCALENDAR
VERSION:2.0
PRODID:-//Squarespace Inc/Squarespace 6//v6//EN
BEGIN:VEVENT
UID:5b211331aa4a9940a90fcce6@squarespace.com
DTSTAMP:20180613T125110Z
DTSTART:20180702T070000Z
DTEND:20180702T105958Z
SUMMARY:Monday Meatball Madness
END:VEVENT
END:VCALENDAR
